BEGIN:VCALENDAR
VERSION:2.0
PRODID:-//Lets Be Blount - ECPv6.14.2//NONSGML v1.0//EN
CALSCALE:GREGORIAN
METHOD:PUBLISH
X-WR-CALNAME:Lets Be Blount
X-ORIGINAL-URL:https://letsbeblount.com
X-WR-CALDESC:Events for Lets Be Blount
REFRESH-INTERVAL;VALUE=DURATION:PT1H
X-Robots-Tag:noindex
X-PUBLISHED-TTL:PT1H
BEGIN:VTIMEZONE
TZID:America/New_York
BEGIN:DAYLIGHT
TZOFFSETFROM:-0500
TZOFFSETTO:-0400
TZNAME:EDT
DTSTART:20260308T070000
END:DAYLIGHT
BEGIN:STANDARD
TZOFFSETFROM:-0400
TZOFFSETTO:-0500
TZNAME:EST
DTSTART:20261101T060000
END:STANDARD
END:VTIMEZONE
BEGIN:VEVENT
DTSTART;TZID=America/New_York:20260202T090000
DTEND;TZID=America/New_York:20260202T100000
DTSTAMP:20260421T101141
CREATED:20260115T080734Z
LAST-MODIFIED:20260115T080734Z
UID:10008110-1770022800-1770026400@letsbeblount.com
SUMMARY:Paid Winter Manufacturing Internships for Young Adults\, Program begins February 2
DESCRIPTION:Paid Winter Manufacturing Internships for Young Adults\nProgram begins February 2\nNow accepting applications for a paid manufacturing training and internship program running February 2 – March 13. This opportunity is designed for young adults ages 17–30 who want to explore careers in modern manufacturing.\nWhat interns receive (funded by the Arconic Foundation):\n• Earn up to $1\,500\n• 100 paid hours with a local manufacturing company\n• 15 paid half-days of Workforce Readiness Training\n• 3 paid half-days of career planning\, placement\, and graduation\n• Certificate of program completion\n• Opportunity to earn a nationally recognized Certified Manufacturing Associate credential through Tooling U-SME\nWhat you’ll gain:\n• Hands-on manufacturing experience\n• Technology and transferable workplace skills\n• Resume development\, references\, and interview preparation\n• A clear pathway to employment or continued education\nProgram outcomes:\n• 75% of participants secure full-time employment\n• 25% transition to postsecondary education or training\nSeats are limited to 10 interns.\nApply online here:\nhttps://forms.gle/YWmqygCzwS8bhDPk9\nQuestions? Contact Jackie Taylor or start a conversation in the comments.  \nEvent Location: Blount County Public Library
URL:https://letsbeblount.com/event/paid-winter-manufacturing-internships-for-young-adults-program-begins-february-2/
LOCATION:Boutique on Broadway
CATEGORIES:Business & Networking,Community Event,Education & Workshops
GEO:35.7523769;-83.9751175
END:VEVENT
END:VCALENDAR