BEGIN:VCALENDAR
VERSION:2.0
PRODID:-//Lets Be Blount - ECPv6.14.2//NONSGML v1.0//EN
CALSCALE:GREGORIAN
METHOD:PUBLISH
X-WR-CALNAME:Lets Be Blount
X-ORIGINAL-URL:https://letsbeblount.com
X-WR-CALDESC:Events for Lets Be Blount
REFRESH-INTERVAL;VALUE=DURATION:PT1H
X-Robots-Tag:noindex
X-PUBLISHED-TTL:PT1H
BEGIN:VTIMEZONE
TZID:America/New_York
BEGIN:DAYLIGHT
TZOFFSETFROM:-0500
TZOFFSETTO:-0400
TZNAME:EDT
DTSTART:20240310T070000
END:DAYLIGHT
BEGIN:STANDARD
TZOFFSETFROM:-0400
TZOFFSETTO:-0500
TZNAME:EST
DTSTART:20241103T060000
END:STANDARD
END:VTIMEZONE
BEGIN:VEVENT
DTSTART;TZID=America/New_York:20240628T190000
DTEND;TZID=America/New_York:20240628T210000
DTSTAMP:20260423T233549
CREATED:20241201T200121Z
LAST-MODIFIED:20241201T200121Z
UID:10005675-1719601200-1719608400@letsbeblount.com
SUMMARY:Legends Concert Series: The Young Fables
DESCRIPTION:Join us Friday\, June 28th\, for our next Legends Concert Series featuring The Young Fables! Doors open at 5:30pm and the concert starts at 7pm! We will have concessions available including Hamburgers\, Hotdogs\, Beer\, Popcorn\, and Coca-Cola products! Tickets range between $20-$30! You won’t want to miss this fantastic duo!\nLearn more about these Legends see below!\nThe Young Fables (TYF) create music with classic storytelling weaved into Americana roots music with pop sensibilities. East Tennessee (Maryville) natives\, Laurel Wright and Wes Lunsford are influenced by timeless treasures like Patsy Cline\, Bonnie Raitt\, Glen Campbell and Chet Atkins. The duo’s unique sound has resonated with audiences around the globe as live performances have become stages from which The Young Fables discuss themes and topics typically saved for the therapy couch. Strong advocates for mental health awareness\, The Young Fables are focused on helping to erase the stigmas surrounding the topic. Recognizing the duo’s advocacy\, the pair were honored with The Troy Gentry Compassion Award in 2021 for compassion\, commitment\, kindness and love.  \nEvent Location: Great Smoky Mountains Heritage Center
URL:https://letsbeblount.com/event/legends-concert-series-the-young-fables/
LOCATION:Great Smoky Mountains Heritage Center
CATEGORIES:Chamber Business Event
ATTACH;FMTTYPE=image/jpeg:https://letsbeblount.com/wp-content/uploads/2024/12/LegendsConcertSeriesTheYoungFables.jpg
GEO:35.6765605;-83.7225541
END:VEVENT
BEGIN:VEVENT
DTSTART;TZID=America/New_York:20240623T143000
DTEND;TZID=America/New_York:20240623T153000
DTSTAMP:20260423T233549
CREATED:20241201T200215Z
LAST-MODIFIED:20241201T200215Z
UID:10005680-1719153000-1719156600@letsbeblount.com
SUMMARY:Smoky Mountain Storytellers
DESCRIPTION:Join us for the next Smoky Mountain Storytellers event! Nestled amidst the captivating backdrop of the Smoky Mountains\, the Smoky Mountain Storytellers Association is a vibrant collective of individuals deeply passionate about the age-old art of storytelling. These tellers\, drawing inspiration from the rich tapestry of the region\, weave tales that range from traditional Appalachian narratives to contemporary fiction\, and from classical tales of distant lands to intimate personal chronicles. As they breathe life into their stories\, listeners are transported on a journey through time and imagination\, encapsulating the essence of what makes the Smoky Mountains so enchantingly timeless. Whether around a campfire or on a grand stage\, the storytellers of this association ensure that every tale is a memorable journey.  \nEvent Location: Great Smoky Mountains Heritage Center
URL:https://letsbeblount.com/event/smoky-mountain-storytellers-3/
LOCATION:Great Smoky Mountains Heritage Center
CATEGORIES:Chamber Business Event
ATTACH;FMTTYPE=image/jpeg:https://letsbeblount.com/wp-content/uploads/2024/12/SmokyMountainStorytellers.jpg
GEO:35.6765605;-83.7225541
END:VEVENT
BEGIN:VEVENT
DTSTART;TZID=America/New_York:20240621T190000
DTEND;TZID=America/New_York:20240621T210000
DTSTAMP:20260423T233549
CREATED:20241201T200109Z
LAST-MODIFIED:20241201T200109Z
UID:10005674-1718996400-1719003600@letsbeblount.com
SUMMARY:Sunset Concert Series: Jay Clark and the Tennessee Tree Beavers!
DESCRIPTION:Join us Friday\, June 21st for our next Sunset Concert Series featuring Jay Clark and the Tennessee Tree Beavers! Enjoy a fun evening of fantastic music set in one of the most beautiful parts of the Smokies! Doors open at 5:30pm and the concert starts at 7pm! We will have popcorn\, cold beer\, and cold soda for sale! Tickets range from $5-$20 but members get in for free!  \nEvent Location: Great Smoky Mountains Heritage Center
URL:https://letsbeblount.com/event/sunset-concert-series-jay-clark-and-the-tennessee-tree-beavers/
LOCATION:Great Smoky Mountains Heritage Center
ATTACH;FMTTYPE=image/jpeg:https://letsbeblount.com/wp-content/uploads/2024/12/SunsetConcertSeriesJayClarkandtheTennesseeTreeBeavers.jpg
GEO:35.6765605;-83.7225541
END:VEVENT
BEGIN:VEVENT
DTSTART;TZID=America/New_York:20240617T100000
DTEND;TZID=America/New_York:20240617T120000
DTSTAMP:20260423T233549
CREATED:20241201T200353Z
LAST-MODIFIED:20241201T200353Z
UID:10005688-1718618400-1718625600@letsbeblount.com
SUMMARY:Maker Monday: Tie Dye Fun!
DESCRIPTION:Join us for our third Maker Monday! This Monday\, June 17\, from 10am-12pm kids of all ages can create their own tie dye project! Bring a shirt or use one of the bandanas provided! Kids Admission to the Museum is included! All proceeds benefit the Great Smoky Mountains Heritage Center’s Education department!\nRegistration is not required but recommended! To register email Jenn Bowen at jbowen@gsmheritagecenter.org  \nEvent Location: Great Smoky Mountains Heritage Center
URL:https://letsbeblount.com/event/maker-monday-tie-dye-fun/
LOCATION:Great Smoky Mountains Heritage Center
CATEGORIES:Chamber Business Event
ATTACH;FMTTYPE=image/jpeg:https://letsbeblount.com/wp-content/uploads/2024/12/MakerMondayTieDyeFun.jpg
GEO:35.6765605;-83.7225541
END:VEVENT
BEGIN:VEVENT
DTSTART;TZID=America/New_York:20240614T183000
DTEND;TZID=America/New_York:20240614T213000
DTSTAMP:20260423T233549
CREATED:20241201T200236Z
LAST-MODIFIED:20241201T200236Z
UID:10005682-1718389800-1718400600@letsbeblount.com
SUMMARY:Doubleheader Concert: Darin & Brook Aldridge and Wade Hayes
DESCRIPTION:Join us for the kickoff of our Legends Concert Series with Darin & Brook Aldridge and Wade Hayes! Doors open at 5:30pm and the concert starts at 6:30pm! Tickets range between $30-$40 so get them before they sell out!\nYou can learn more about our Legends below!\nDarin & Brooke Aldridge\n2023 Bluegrass Artists of the Year\nDarin and Brooke Aldridge\, the highly acclaimed Bluegrass and Americana duo\, are back with This Life We’re Livin\,’ their ninth recorded project together and first release on Billy Blue Records and celebrates the space the husband-and-wife team now occupies – the top of bluegrass music.\nWade Hayes\nHis debut single\, “Old Enough to Know Better\,” hit No. 1 on Billboard’s Hot Country Singles & Tracks chart and Hayes was nominated for the ACM’s Top New Male Vocalist honor. Two of Hayes’ four major label albums have been certified gold by the RIAA\, and hits such as “Don’t Stop\, “The Day That She Left Tulsa (In a Chevy)” and “How Do You Sleep at Night” continue to be fan favorites in his shows.  \nEvent Location: Great Smoky Mountains Heritage Center
URL:https://letsbeblount.com/event/doubleheader-concert-darin-brook-aldridge-and-wade-hayes/
LOCATION:Great Smoky Mountains Heritage Center
CATEGORIES:Chamber Business Event
ATTACH;FMTTYPE=image/jpeg:https://letsbeblount.com/wp-content/uploads/2024/12/DoubleheaderConcertDarinBrookAldridgeandWadeHayes.jpg
GEO:35.6765605;-83.7225541
END:VEVENT
BEGIN:VEVENT
DTSTART;TZID=America/New_York:20240610T100000
DTEND;TZID=America/New_York:20240610T120000
DTSTAMP:20260423T233549
CREATED:20241201T200228Z
LAST-MODIFIED:20241201T200228Z
UID:10005681-1718013600-1718020800@letsbeblount.com
SUMMARY:Maker Monday: Nature Journal & Seed Balls!
DESCRIPTION:Join us for our second Maker Monday! This Monday\, June 10\, kids of all ages can create their own nature journals and make seed balls to start their very own garden! All materials provided. Kids Admission to the Museum is included! All proceeds benefit the Great Smoky Mountains Heritage Center’s Education department!\nRegistration is not required but recommended! To register email Jenn Bowen at jbowen@gsmheritagecenter.org  \nEvent Location: Great Smoky Mountains Heritage Center
URL:https://letsbeblount.com/event/maker-monday-nature-journal-seed-balls/
LOCATION:Great Smoky Mountains Heritage Center
CATEGORIES:Chamber Business Event
ATTACH;FMTTYPE=image/jpeg:https://letsbeblount.com/wp-content/uploads/2024/12/MakerMondayNatureJournalSeedBalls.jpg
GEO:35.6765605;-83.7225541
END:VEVENT
BEGIN:VEVENT
DTSTART;TZID=America/New_York:20240607T190000
DTEND;TZID=America/New_York:20240607T210000
DTSTAMP:20260423T233549
CREATED:20241201T200339Z
LAST-MODIFIED:20241201T200339Z
UID:10005687-1717786800-1717794000@letsbeblount.com
SUMMARY:Sunset Concert Series: Wild Blue Yonder
DESCRIPTION:Join us for our next Sunset Concert Series featuring Wild Blue Yonder! Enjoy a fun evening of fantastic music set in one of the most beautiful parts of the Smokies! Doors open at 5:30pm and the concert starts at 7pm! Tickets range from $5-$20 but members get in for free!\nBlount County favorite Wild Blue Yonder band serves up a rootsy blend of Appalachian\, Old-Time and mountain Gospel music\, honoring the rich traditions of the Great Smoky Mountains. Warm harmonies\, old-time fiddle\, classy cello\, mandolin\, banjo and light percussion shine on fresh\, edgy arrangements of traditional and original songs. The group is excited to return to the Great Smoky Mountains Heritage Center on Friday June 7.\nWBY brings a classy new face to acoustic music in 2024 with\ncellist/fiddler/vocalist Kristiana McCombs Arnwine\, recent winner of the Mountain Soul vocal competition in Sevier County. Her spirited\, soulful style infuses the group with a fresh sparkle. Classically trained in piano\, cello and voice\, Kristiana is a rare new talent in East Tennessee. Wild Blue Yonder has performed professionally for 25 years across East Tennessee\, Kentucky\, Southwest Virginia and Western North Carolina. The group has produced three independent CDs\, and its wide variety of Appalachian music can be heard on Spotify and other digital platforms!  \nEvent Location: Great Smoky Mountains Heritage Center
URL:https://letsbeblount.com/event/sunset-concert-series-wild-blue-yonder/
LOCATION:Great Smoky Mountains Heritage Center
CATEGORIES:Chamber Business Event
ATTACH;FMTTYPE=image/jpeg:https://letsbeblount.com/wp-content/uploads/2024/12/SunsetConcertSeriesWildBlueYonder.jpg
GEO:35.6765605;-83.7225541
END:VEVENT
BEGIN:VEVENT
DTSTART;TZID=America/New_York:20240607T140000
DTEND;TZID=America/New_York:20240607T160000
DTSTAMP:20260423T233549
CREATED:20241201T200522Z
LAST-MODIFIED:20241201T200522Z
UID:10005695-1717768800-1717776000@letsbeblount.com
SUMMARY:Herbal First Aid Class
DESCRIPTION:Join us for our next Herbal First Aid Class! Life happens and that means accidents. Learn the ways of the past using plants as medicine for scrapes\, burns\, bites\, food poisoning and lots more! You will learn how to make your own updated Herbal First Aid Kit for today’s living! No previous workshops required. Plus\, take home a First Aid Remedy and how-to’s for your First Aid Kit!  \nEvent Location: Great Smoky Mountains Heritage Center
URL:https://letsbeblount.com/event/herbal-first-aid-class/
LOCATION:Great Smoky Mountains Heritage Center
CATEGORIES:Chamber Business Event
ATTACH;FMTTYPE=image/jpeg:https://letsbeblount.com/wp-content/uploads/2024/12/HerbalFirstAidClass.jpg
GEO:35.6765605;-83.7225541
END:VEVENT
BEGIN:VEVENT
DTSTART;TZID=America/New_York:20240603T100000
DTEND;TZID=America/New_York:20240603T120000
DTSTAMP:20260423T233549
CREATED:20241201T200326Z
LAST-MODIFIED:20241201T200326Z
UID:10005686-1717408800-1717416000@letsbeblount.com
SUMMARY:Maker Mondays!
DESCRIPTION:Join the Tuckaleechee Garden Club at the GSM Heritage Center on Monday\, June 3rd\, from 10a-12p for some fun in the garden! Our first Maker Monday event will focus on several fun activities for kids including a scavenger hunt\, planting and harvesting\, and a fun craft! This event is free of charge!\nPlease email JBowen@gsmheritagecenter.org to register.  \nEvent Location: Great Smoky Mountains Heritage Center
URL:https://letsbeblount.com/event/maker-mondays/
LOCATION:Great Smoky Mountains Heritage Center
ATTACH;FMTTYPE=image/jpeg:https://letsbeblount.com/wp-content/uploads/2024/12/MakerMondays.jpg
GEO:35.6765605;-83.7225541
END:VEVENT
BEGIN:VEVENT
DTSTART;TZID=America/New_York:20240524T190000
DTEND;TZID=America/New_York:20240524T210000
DTSTAMP:20260423T233549
CREATED:20241201T200157Z
LAST-MODIFIED:20241201T200157Z
UID:10005678-1716577200-1716584400@letsbeblount.com
SUMMARY:Sunset Concert Series: Blue Ridge Gathering
DESCRIPTION:Join us for the kick-off of our Sunset Concert Series with Blue Ridge Gathering! Enjoy a fun evening of fantastic music set in one of the most beautiful parts of the Smokies! Doors open at 5:30pm and tickets range from $5-$20 but members get in for free!  \nEvent Location: Great Smoky Mountains Heritage Center
URL:https://letsbeblount.com/event/sunset-concert-series-blue-ridge-gathering-2/
LOCATION:Great Smoky Mountains Heritage Center
ATTACH;FMTTYPE=image/jpeg:https://letsbeblount.com/wp-content/uploads/2024/12/SunsetConcertSeriesBlueRidgeGathering.jpg
GEO:35.6765605;-83.7225541
END:VEVENT
BEGIN:VEVENT
DTSTART;TZID=America/New_York:20240524T190000
DTEND;TZID=America/New_York:20240524T210000
DTSTAMP:20260423T233549
CREATED:20240524T050947Z
LAST-MODIFIED:20240524T050947Z
UID:10000257-1716577200-1716584400@letsbeblount.com
SUMMARY:Sunset Concert Series: Blue Ridge Gathering
DESCRIPTION:Join us for the kick-off of our Sunset Concert Series with Blue Ridge Gathering! Enjoy a fun evening of fantastic music set in one of the most beautiful parts of the Smokies! Doors open at 5:30pm and tickets range from $5-$20 but members get in for free!
URL:https://letsbeblount.com/event/sunset-concert-series-blue-ridge-gathering/
LOCATION:Great Smoky Mountains Heritage Center
CATEGORIES:Concerts & Music
ATTACH;FMTTYPE=image/jpeg:https://letsbeblount.com/wp-content/uploads/2024/05/blue-ridge-gathering.jpeg
GEO:35.6765605;-83.7225541
END:VEVENT
BEGIN:VEVENT
DTSTART;TZID=America/New_York:20240518T101500
DTEND;TZID=America/New_York:20240518T121500
DTSTAMP:20260423T233549
CREATED:20241201T200445Z
LAST-MODIFIED:20241201T200445Z
UID:10005692-1716027300-1716034500@letsbeblount.com
SUMMARY:Folk Medicine: Herbal First Aid Class
DESCRIPTION:Join us for our Herbal First Aid Class! Life happens and that means accidents. Learn the ways of the past using plants as medicine for scrapes\, burns\, bites\, food poisoning and lots more! You will learn how to make your own updated Herbal First Aid Kit for today’s living! No previous workshops required. Plus\, take home a First Aid Remedy and how-to’s for your First Aid Kit.  \nEvent Location: Great Smoky Mountains Heritage Center
URL:https://letsbeblount.com/event/folk-medicine-herbal-first-aid-class/
LOCATION:Great Smoky Mountains Heritage Center
ATTACH;FMTTYPE=image/jpeg:https://letsbeblount.com/wp-content/uploads/2024/12/FolkMedicineHerbalFirstAidClass.jpg
GEO:35.6765605;-83.7225541
END:VEVENT
BEGIN:VEVENT
DTSTART;TZID=America/New_York:20240513T101500
DTEND;TZID=America/New_York:20240513T121500
DTSTAMP:20260423T233549
CREATED:20241201T200612Z
LAST-MODIFIED:20241201T200612Z
UID:10005698-1715595300-1715602500@letsbeblount.com
SUMMARY:Folk Medicine: Herbal First Aid Class
DESCRIPTION:Join us for our Herbal First Aid Class! Life happens and that means accidents. Learn the ways of the past using plants as medicine for scrapes\, burns\, bites\, food poisoning and lots more! You will learn how to make your own updated Herbal First Aid Kit for today’s living! No previous workshops required. Plus\, take home a First Aid Remedy and how-to’s for your First Aid Kit.  \nEvent Location: Great Smoky Mountains Heritage Center
URL:https://letsbeblount.com/event/folk-medicine-herbal-first-aid-class-2/
LOCATION:Great Smoky Mountains Heritage Center
CATEGORIES:Chamber Business Event
ATTACH;FMTTYPE=image/jpeg:https://letsbeblount.com/wp-content/uploads/2024/12/FolkMedicineHerbalFirstAidClass.jpg
GEO:35.6765605;-83.7225541
END:VEVENT
BEGIN:VEVENT
DTSTART;TZID=America/New_York:20240511T100000
DTEND;TZID=America/New_York:20240511T160000
DTSTAMP:20260423T233549
CREATED:20241201T200506Z
LAST-MODIFIED:20241201T200506Z
UID:10005694-1715421600-1715443200@letsbeblount.com
SUMMARY:Kids Take Over Museum!
DESCRIPTION:The 2nd Annual Kids Take Over the Museum will provide kids of all ages with hands-on activities that are rooted in rich Appalachian history!\nThere will be no shortage of activities for your young crafter or artist! From 10:00 am to 4:00 pm\, they’ll enjoy basket weaving\, blacksmithing\, and pottery making! Over 25 demonstrations\, on-site vendors and special events are lined up for this huge day at the Great Smoky Mountains Heritage Center!\nVisitors will play loads of games that would have been popular choices for kids on the mountain homestead! Traditional Cherokee hunting games will be set up around the property for the young hunter to try! Representatives from the Museum of the Cherokee will be on hand to teach traditional dances and share the magic of their oral history!\nThe Junior Appalachian Musicians will be around the campus showing off their musical skills as they play traditional mountain music! The musical program will culminate with a performance at the 350-seat amphitheater.\nWith living history interpreters and demonstrators throughout the Heritage Center’s 10 plus acre museum site\, kids are the focus all day long! You don’t want to miss it! \nEvent Location: Great Smoky Mountains Heritage Center
URL:https://letsbeblount.com/event/kids-take-over-museum/
LOCATION:Great Smoky Mountains Heritage Center
ATTACH;FMTTYPE=image/jpeg:https://letsbeblount.com/wp-content/uploads/2024/12/KidsTakeOverMuseum.jpg
GEO:35.6765605;-83.7225541
END:VEVENT
BEGIN:VEVENT
DTSTART;TZID=America/New_York:20240428T143000
DTEND;TZID=America/New_York:20240428T153000
DTSTAMP:20260423T233549
CREATED:20241201T200558Z
LAST-MODIFIED:20241201T200558Z
UID:10005697-1714314600-1714318200@letsbeblount.com
SUMMARY:Smoky Mountain Storytellers
DESCRIPTION:Join us for our next Smoky Mountains Storytellers event!\nNestled amidst the captivating backdrop of the Smoky Mountains\, the Smoky Mountain Storytellers Association is a vibrant collective of individuals deeply passionate about the age-old art of storytelling. These tellers\, drawing inspiration from the rich tapestry of the region\, weave tales that range from traditional Appalachian narratives to contemporary fiction\, and from classical tales of distant lands to intimate personal chronicles. As they breathe life into their stories\, listeners are transported on a journey through time and imagination\, encapsulating the essence of what makes the Smoky Mountains so enchantingly timeless. Whether around a campfire or on a grand stage\, the storytellers of this association ensure that every tale is a memorable journey.  \nEvent Location: Great Smoky Mountains Heritage Center
URL:https://letsbeblount.com/event/smoky-mountain-storytellers-4/
LOCATION:Great Smoky Mountains Heritage Center
CATEGORIES:Chamber Business Event
ATTACH;FMTTYPE=image/jpeg:https://letsbeblount.com/wp-content/uploads/2024/12/SmokyMountainStorytellers.jpg
GEO:35.6765605;-83.7225541
END:VEVENT
BEGIN:VEVENT
DTSTART;TZID=America/New_York:20240413T101500
DTEND;TZID=America/New_York:20240413T114500
DTSTAMP:20260423T233549
CREATED:20241201T200454Z
LAST-MODIFIED:20241201T200454Z
UID:10005693-1713003300-1713008700@letsbeblount.com
SUMMARY:Herbal Oils & Salves Class!
DESCRIPTION:Oils infused with herbs are wonderful for topical use! The healing properties of many herbs are soothing to the skin for rashes\, bug\, bites and many other skin irritations! Watch a demonstration on how to make herbal topical oils and then turn that into a healing salve. Make your own topical oil to take home along with bees wax to turn it into a healing salve. Herbs\, oil and beeswax provided along with an information sheet!  \nEvent Location: Great Smoky Mountains Heritage Center
URL:https://letsbeblount.com/event/herbal-oils-salves-class/
LOCATION:Great Smoky Mountains Heritage Center
CATEGORIES:Chamber Business Event
ATTACH;FMTTYPE=image/jpeg:https://letsbeblount.com/wp-content/uploads/2024/12/HerbalOilsSalvesClass.jpg
GEO:35.6765605;-83.7225541
END:VEVENT
BEGIN:VEVENT
DTSTART;TZID=America/New_York:20240406T101500
DTEND;TZID=America/New_York:20240406T114500
DTSTAMP:20260423T233549
CREATED:20241201T200542Z
LAST-MODIFIED:20241201T200542Z
UID:10005696-1712398500-1712403900@letsbeblount.com
SUMMARY:Tinctures: Herbal Extracts
DESCRIPTION:This class will teach you about Tinctures\, an alcohol extraction and the longest lasting herbal remedy! Tinctures are easy to take and easy to make! Taken by the drops rather than cups\, a very small amount makes a very potent medicine. Watch a tincture making demonstration and learn why this could be the best medicine for you. Make your own elderberry tincture to take home along with a dropper bottle for easy use and information sheet! No experience necessary!  \nEvent Location: Great Smoky Mountains Heritage Center
URL:https://letsbeblount.com/event/tinctures-herbal-extracts/
LOCATION:Great Smoky Mountains Heritage Center
CATEGORIES:Chamber Business Event
ATTACH;FMTTYPE=image/jpeg:https://letsbeblount.com/wp-content/uploads/2024/12/TincturesHerbalExtracts.jpg
GEO:35.6765605;-83.7225541
END:VEVENT
BEGIN:VEVENT
DTSTART;TZID=America/New_York:20240323T101500
DTEND;TZID=America/New_York:20240323T111500
DTSTAMP:20260423T233549
CREATED:20241201T200621Z
LAST-MODIFIED:20241201T200621Z
UID:10005699-1711188900-1711192500@letsbeblount.com
SUMMARY:Herbal Syrups: A Sweet Remedy
DESCRIPTION:Herbal Syrups: A Sweet Remedy\nTake tea making a step further! The healing properties of honey and herbs are a great way to incorporate not so great tasting herbs into your life. Syrups are wonderful for colds\, flu and sore throats. Join us as we demonstrate how to make herbal syrup and how to use them! We will sample a tasty treat made with syrup and you will take home ginger syrup and an information sheet! No experience necessary.  \nEvent Location: Great Smoky Mountains Heritage Center
URL:https://letsbeblount.com/event/herbal-syrups-a-sweet-remedy/
LOCATION:Great Smoky Mountains Heritage Center
CATEGORIES:Chamber Business Event
ATTACH;FMTTYPE=image/jpeg:https://letsbeblount.com/wp-content/uploads/2024/12/HerbalSyrupsASweetRemedy.jpg
GEO:35.6765605;-83.7225541
END:VEVENT
BEGIN:VEVENT
DTSTART;TZID=America/New_York:20240316T101500
DTEND;TZID=America/New_York:20240316T114500
DTSTAMP:20260423T233549
CREATED:20241201T200835Z
LAST-MODIFIED:20241201T200835Z
UID:10005705-1710584100-1710589500@letsbeblount.com
SUMMARY:Herbal Tea Making and Decoctions
DESCRIPTION:Learn one of the oldest and most basic herbal remedies that has been used since ancient times! See demonstrations for both types of preparations and beyond that to nourishing infusions. Join us for our own Appalachian Tea Ceremony\, and learn how to formulate easy tea blends for health and enjoyment! Make your own tea blend to take home along with an information sheet. No experience necessary!  \nEvent Location: Great Smoky Mountains Heritage Center
URL:https://letsbeblount.com/event/herbal-tea-making-and-decoctions/
LOCATION:Great Smoky Mountains Heritage Center
ATTACH;FMTTYPE=image/jpeg:https://letsbeblount.com/wp-content/uploads/2024/12/HerbalTeaMakingandDecoctions.jpg
GEO:35.6765605;-83.7225541
END:VEVENT
BEGIN:VEVENT
DTSTART;TZID=America/New_York:20240127T101500
DTEND;TZID=America/New_York:20240127T114500
DTSTAMP:20260423T233549
CREATED:20241201T200823Z
LAST-MODIFIED:20241201T200823Z
UID:10005706-1706350500-1706355900@letsbeblount.com
SUMMARY:Herbal Oils & Salves Class
DESCRIPTION:Join us for our next herbal-themed class! Oils infused with herbs are wonderful for topical use. The healing properties of many herbs are soothing to the skin for rashes\, bug bites\, and many other skin irritations. As part of this class\, you will watch a demonstration on making herbal topical oils and then turn that into a healing salve. Make your own topical oil to take home along with beeswax so that you can turn it into a healing salve. Herbs\, oil\, and beeswax will be provided along with an information sheet.  \nEvent Location: 123 Cromwell Drive Townsend\, TN\, United States\, Tennessee 37882
URL:https://letsbeblount.com/event/herbal-oils-salves-class-2/
LOCATION:Great Smoky Mountains Heritage Center
CATEGORIES:Chamber Business Event
ATTACH;FMTTYPE=image/jpeg:https://letsbeblount.com/wp-content/uploads/2024/12/HerbalOilsSalvesClass.jpg
GEO:35.6765605;-83.7225541
END:VEVENT
BEGIN:VEVENT
DTSTART;TZID=America/New_York:20240127T100000
DTEND;TZID=America/New_York:20240127T160000
DTSTAMP:20260423T233549
CREATED:20241201T200752Z
LAST-MODIFIED:20241201T200752Z
UID:10005704-1706349600-1706371200@letsbeblount.com
SUMMARY:Winter Heritage Festival
DESCRIPTION:Join us as we step back in time for the annual Winter Heritage Festival at the Great Smoky Mountains Heritage Center! You’ll experience hands-on demonstrations\, practice pioneer survival skills\, and get a sense of how challenging life was during pioneer times!\nLearn a new craft\, see historic artifacts\, and learn about the weapons the pioneers used to survive in the Southern Appalachian region.\nExperience the history of East Tennessee Mountain culture by practicing some of the daily tasks of the pioneers. Living History interpreters and volunteers will be on site hosting activities and games. \nHere are some highlights you can experience:\n• Experience Pioneer Living\n• Historic Artifacts and Weapons\n• Living History Interpreters\n• Practice Survival Skills  \nEvent Location: 123 Cromwell Drive Townsend\, TN\, United States\, Tennessee 37882
URL:https://letsbeblount.com/event/winter-heritage-festival/
LOCATION:Great Smoky Mountains Heritage Center
CATEGORIES:Chamber Business Event
ATTACH;FMTTYPE=image/jpeg:https://letsbeblount.com/wp-content/uploads/2024/12/WinterHeritageFestival.jpg
GEO:35.6765605;-83.7225541
END:VEVENT
BEGIN:VEVENT
DTSTART;TZID=America/New_York:20240113T101500
DTEND;TZID=America/New_York:20240113T114500
DTSTAMP:20260423T233549
CREATED:20241201T200649Z
LAST-MODIFIED:20241201T200649Z
UID:10005701-1705140900-1705146300@letsbeblount.com
SUMMARY:Herbal Syrups: A Sweet Remedy
DESCRIPTION:Take tea-making a step further! The healing properties of honey and herbs are a great way to incorporate not-so-great-tasting herbs into your life. Syrups are wonderful for colds\, flu\, and sore throats. Join us as we demonstrate how to make herbal syrup and how to use them! We will sample a tasty treat made with syrup. You will take home ginger syrup and an information sheet! No experience necessary.  \nEvent Location: Great Smoky Mountains Heritage Center
URL:https://letsbeblount.com/event/herbal-syrups-a-sweet-remedy-2/
LOCATION:Great Smoky Mountains Heritage Center
CATEGORIES:Chamber Business Event
ATTACH;FMTTYPE=image/jpeg:https://letsbeblount.com/wp-content/uploads/2024/12/HerbalSyrupsASweetRemedy.jpg
GEO:35.6765605;-83.7225541
END:VEVENT
END:VCALENDAR