BEGIN:VCALENDAR
VERSION:2.0
PRODID:-//Lets Be Blount - ECPv6.14.2//NONSGML v1.0//EN
CALSCALE:GREGORIAN
METHOD:PUBLISH
X-WR-CALNAME:Lets Be Blount
X-ORIGINAL-URL:https://letsbeblount.com
X-WR-CALDESC:Events for Lets Be Blount
REFRESH-INTERVAL;VALUE=DURATION:PT1H
X-Robots-Tag:noindex
X-PUBLISHED-TTL:PT1H
BEGIN:VTIMEZONE
TZID:America/New_York
BEGIN:DAYLIGHT
TZOFFSETFROM:-0500
TZOFFSETTO:-0400
TZNAME:EDT
DTSTART:20240310T070000
END:DAYLIGHT
BEGIN:STANDARD
TZOFFSETFROM:-0400
TZOFFSETTO:-0500
TZNAME:EST
DTSTART:20241103T060000
END:STANDARD
END:VTIMEZONE
BEGIN:VEVENT
DTSTART;TZID=America/New_York:20241025T180000
DTEND;TZID=America/New_York:20241025T210000
DTSTAMP:20260423T080603
CREATED:20241020T214916Z
LAST-MODIFIED:20241020T214916Z
UID:10002403-1729879200-1729890000@letsbeblount.com
SUMMARY:Blount County Friends of the Library 50th Anniversary Celebration & Silent Auction
DESCRIPTION:In 1974\, the Blount County Friends of the Library began its journey to support the Blount County Public Library. A celebration of the last 50 years will culminate in a Golden Anniversary event you won’t want to miss! On October 25th\, we’ll be partnering withPellissippi State Community College Culinary and Hospitality departments to host our 50th Anniversary Celebration.\nThe event will take place at the West Building on Pellissippi’s Blount Campus on Lamar Alexander in Friendsville. Food and some specially created mocktails will be provided. We will also have music from a well-known cellist. The event will begin at 6:00 PM and go until 9:00 PM.\nIn addition\, we will begin a Silent Auction on Clickbid one week before the event. The auction items will go live on October 17th and close the night of the event. See auction site here: https://cbo.io/bidapp/index.php?slug=bcfol\nTickets are on sale here: https://www.bcfol.org/50th-anniversary-bash-silent…/
URL:https://letsbeblount.com/event/blount-county-friends-of-the-library-50th-anniversary-celebration-silent-auction/
LOCATION:Pellissippi State Community College Blount County Campus
CATEGORIES:Arts & Culture,Charity & Community,Community Event
ATTACH;FMTTYPE=image/jpeg:https://letsbeblount.com/wp-content/uploads/2024/10/BCFOL_50thAnniversaryBash_oct24.jpg
GEO:35.7553674;-84.0729665
END:VEVENT
BEGIN:VEVENT
DTSTART;TZID=America/New_York:20240919T163000
DTEND;TZID=America/New_York:20240919T183000
DTSTAMP:20260423T080603
CREATED:20240915T025643Z
LAST-MODIFIED:20240915T025643Z
UID:10000955-1726763400-1726770600@letsbeblount.com
SUMMARY:Adult Learners Recruitment Event at Pellissippi State
DESCRIPTION:Tour our campus and learn about our programs\, learn about the Tennessee Reconnect scholarship\, discuss how to complete the FAFSA and access resources\, network with other adult learners
URL:https://letsbeblount.com/event/adult-learners-recruitment-event-at-pellissippi-state/
LOCATION:Pellissippi State Community College Blount County Campus
CATEGORIES:Education & Workshops
GEO:35.7553674;-84.0729665
END:VEVENT
END:VCALENDAR