BEGIN:VCALENDAR
VERSION:2.0
PRODID:-//Lets Be Blount - ECPv6.14.2//NONSGML v1.0//EN
CALSCALE:GREGORIAN
METHOD:PUBLISH
X-ORIGINAL-URL:https://letsbeblount.com
X-WR-CALDESC:Events for Lets Be Blount
REFRESH-INTERVAL;VALUE=DURATION:PT1H
X-Robots-Tag:noindex
X-PUBLISHED-TTL:PT1H
BEGIN:VTIMEZONE
TZID:America/New_York
BEGIN:DAYLIGHT
TZOFFSETFROM:-0500
TZOFFSETTO:-0400
TZNAME:EDT
DTSTART:20260308T070000
END:DAYLIGHT
BEGIN:STANDARD
TZOFFSETFROM:-0400
TZOFFSETTO:-0500
TZNAME:EST
DTSTART:20261101T060000
END:STANDARD
END:VTIMEZONE
BEGIN:VEVENT
DTSTART;TZID=America/New_York:20260425T120000
DTEND;TZID=America/New_York:20260425T170000
DTSTAMP:20260421T123537
CREATED:20260407T203909Z
LAST-MODIFIED:20260408T131850Z
UID:10008264-1777118400-1777136400@letsbeblount.com
SUMMARY:Sip The Foothills Wine Fest
DESCRIPTION:Discover Tennessee wines in a beautiful foothills setting at the Sip TN The Foothills Wine Festival\, a relaxed and flavorful afternoon celebrating the best of the state’s wineries. \nGuests can sample a wide variety of Tennessee wines\, meet winemakers\, and enjoy a welcoming atmosphere that pairs perfectly with the region’s scenic backdrop. This festival is ideal for both seasoned wine enthusiasts and those just beginning their Tennessee wine journey. \nFor an elevated experience\, a limited number of VIP tickets are available. VIP guests will enjoy access to an exclusive indoor seating area\, gourmet food prepared by the Pellissippi State Community College culinary department\, and engaging educational wine and chocolate pairing workshops. This ticket tier offers a more immersive and intimate festival experience and is available in limited supply. \nTickets and additional event details are available through our ticketing partner. \nPurchase tickets here: https://rockytopwinetrail.ticketspice.com/sip-tn-the-foothills \nJoin us for a memorable day of sipping\, learning\, and celebrating Tennessee wines at Sip TN The Foothills Wine Festival.
URL:https://letsbeblount.com/event/sip-the-foothills-wine-fest/
LOCATION:Pellissippi State Community College Blount County Campus
CATEGORIES:Arts & Culture
ATTACH;FMTTYPE=image/jpeg:https://letsbeblount.com/wp-content/uploads/2026/03/soft-edites-Full-size-80-scaled.jpg
GEO:35.7553674;-84.0729665
END:VEVENT
END:VCALENDAR