BEGIN:VCALENDAR
VERSION:2.0
PRODID:-//Lets Be Blount - ECPv6.14.2//NONSGML v1.0//EN
CALSCALE:GREGORIAN
METHOD:PUBLISH
X-WR-CALNAME:Lets Be Blount
X-ORIGINAL-URL:https://letsbeblount.com
X-WR-CALDESC:Events for Lets Be Blount
REFRESH-INTERVAL;VALUE=DURATION:PT1H
X-Robots-Tag:noindex
X-PUBLISHED-TTL:PT1H
BEGIN:VTIMEZONE
TZID:America/New_York
BEGIN:DAYLIGHT
TZOFFSETFROM:-0500
TZOFFSETTO:-0400
TZNAME:EDT
DTSTART:20240310T070000
END:DAYLIGHT
BEGIN:STANDARD
TZOFFSETFROM:-0400
TZOFFSETTO:-0500
TZNAME:EST
DTSTART:20241103T060000
END:STANDARD
BEGIN:DAYLIGHT
TZOFFSETFROM:-0500
TZOFFSETTO:-0400
TZNAME:EDT
DTSTART:20250309T070000
END:DAYLIGHT
BEGIN:STANDARD
TZOFFSETFROM:-0400
TZOFFSETTO:-0500
TZNAME:EST
DTSTART:20251102T060000
END:STANDARD
END:VTIMEZONE
BEGIN:VEVENT
DTSTART;TZID=America/New_York:20251003T100000
DTEND;TZID=America/New_York:20251003T130000
DTSTAMP:20260423T195734
CREATED:20250428T130533Z
LAST-MODIFIED:20250428T130533Z
UID:10006849-1759485600-1759496400@letsbeblount.com
SUMMARY:The Tasting Table
DESCRIPTION:Join us on the front porch for a relaxed and FREE tasting experience.\nThe Tasting Table is a casual\, drop-in event where you can sip and explore our featured coffees. We’ll walk you through what makes each coffee special\, whether it’s the origin\, processing method\, or roast profile\, and answer any questions you might have along the way.\nIt’s the perfect way to learn more about our coffees\, connect with the Vienna team\, and enjoy a few slow sips in good company.\nNo RSVP required – just stop by\, grab a cup\, and taste with us!  \nEvent Location: 212 College St \, Maryville\, TN\, United States\, Tennessee 37804
URL:https://letsbeblount.com/event/the-tasting-table-3/
LOCATION:Vienna Coffee Company
CATEGORIES:Community Event,Education & Workshops
ATTACH;FMTTYPE=image/jpeg:https://letsbeblount.com/wp-content/uploads/2025/04/TheTastingTable.jpg
GEO:35.7564851;-83.9690816
END:VEVENT
BEGIN:VEVENT
DTSTART;TZID=America/New_York:20250905T100000
DTEND;TZID=America/New_York:20250905T130000
DTSTAMP:20260423T195734
CREATED:20250428T130515Z
LAST-MODIFIED:20250428T130515Z
UID:10006848-1757066400-1757077200@letsbeblount.com
SUMMARY:The Tasting Table
DESCRIPTION:Join us on the front porch for a relaxed and FREE tasting experience.\nThe Tasting Table is a casual\, drop-in event where you can sip and explore our featured coffees. We’ll walk you through what makes each coffee special\, whether it’s the origin\, processing method\, or roast profile\, and answer any questions you might have along the way.\nIt’s the perfect way to learn more about our coffees\, connect with the Vienna team\, and enjoy a few slow sips in good company.\nNo RSVP required – just stop by\, grab a cup\, and taste with us!  \nEvent Location: 212 College St \, Maryville\, TN\, United States\, Tennessee 37804
URL:https://letsbeblount.com/event/the-tasting-table-2/
LOCATION:Vienna Coffee Company
ATTACH;FMTTYPE=image/jpeg:https://letsbeblount.com/wp-content/uploads/2025/04/TheTastingTable.jpg
GEO:35.7564851;-83.9690816
END:VEVENT
BEGIN:VEVENT
DTSTART;TZID=America/New_York:20250816T100000
DTEND;TZID=America/New_York:20250816T120000
DTSTAMP:20260423T195734
CREATED:20250428T130900Z
LAST-MODIFIED:20250428T130900Z
UID:10006862-1755338400-1755345600@letsbeblount.com
SUMMARY:Roastery Tour
DESCRIPTION:Go Behind the Beans: Roastery Tour at Vienna\nEver wondered how your favorite coffee makes its way from farm to cup? Our monthly Roastery Tours are your behind-the-scenes pass to the heart of our operation.\nJoin us for an immersive experience where you’ll witness the full journey of our relationally sourced coffees\, from sample to roast\, packaging to distribution. You’ll take in the sights\, sounds\, and scents of our Roastery while our expert team shares the craft and care that go into every batch.\nEach ticket includes a 4oz bag of freshly roasted coffee to take home.\nLimited to 10 guests per tour.  \nEvent Location: 212 College St \, Maryville\, TN\, United States\, Tennessee 37804
URL:https://letsbeblount.com/event/roastery-tour-4/
LOCATION:Vienna Coffee Company
CATEGORIES:Community Event,Education & Workshops
ATTACH;FMTTYPE=image/jpeg:https://letsbeblount.com/wp-content/uploads/2025/04/RoasteryTour.jpg
GEO:35.7564851;-83.9690816
END:VEVENT
BEGIN:VEVENT
DTSTART;TZID=America/New_York:20250801T100000
DTEND;TZID=America/New_York:20250801T130000
DTSTAMP:20260423T195734
CREATED:20250428T130932Z
LAST-MODIFIED:20250428T130932Z
UID:10006864-1754042400-1754053200@letsbeblount.com
SUMMARY:The Tasting Table
DESCRIPTION:Join us on the front porch for a relaxed and FREE tasting experience.\nThe Tasting Table is a casual\, drop-in event where you can sip and explore our featured coffees. We’ll walk you through what makes each coffee special\, whether it’s the origin\, processing method\, or roast profile\, and answer any questions you might have along the way.\nIt’s the perfect way to learn more about our coffees\, connect with the Vienna team\, and enjoy a few slow sips in good company.\nNo RSVP required – just stop by\, grab a cup\, and taste with us!  \nEvent Location: 212 College St \, Maryville\, TN\, United States\, Tennessee 37804
URL:https://letsbeblount.com/event/the-tasting-table-5/
LOCATION:Vienna Coffee Company
CATEGORIES:Community Event,Education & Workshops
ATTACH;FMTTYPE=image/jpeg:https://letsbeblount.com/wp-content/uploads/2025/04/TheTastingTable.jpg
GEO:35.7564851;-83.9690816
END:VEVENT
BEGIN:VEVENT
DTSTART;TZID=America/New_York:20250726T100000
DTEND;TZID=America/New_York:20250726T120000
DTSTAMP:20260423T195734
CREATED:20250428T130457Z
LAST-MODIFIED:20250428T130457Z
UID:10006847-1753524000-1753531200@letsbeblount.com
SUMMARY:Curated Cupping
DESCRIPTION:Join Us for a Curated Coffee Cupping Experience\nGet a taste of what makes each coffee truly unique. In this guided session\, a member of the Vienna Coffee Co. team will lead you through a tasting of thoughtfully selected coffees\, featuring different origins\, processes\, and varietals. Together\, we’ll explore how each one tells its own story and creates its own adventure!\nDuring This Session\, You’ll:\nTaste a curated lineup of coffees alongside the Vienna Coffee Co. team\nLearn how factors like origin\, variety\, and processing impact flavor and quality\nDiscover the journey each coffee takes from farm to cup\nPlus\, take home a 12oz bag of freshly roasted coffee to enjoy later!  \nEvent Location: 212 College St \, Maryville\, TN\, United States\, Tennessee 37804
URL:https://letsbeblount.com/event/curated-cupping/
LOCATION:Vienna Coffee Company
CATEGORIES:Community Event,Education & Workshops
ATTACH;FMTTYPE=image/jpeg:https://letsbeblount.com/wp-content/uploads/2025/04/CuratedCupping.jpg
GEO:35.7564851;-83.9690816
END:VEVENT
BEGIN:VEVENT
DTSTART;TZID=America/New_York:20250719T100000
DTEND;TZID=America/New_York:20250719T120000
DTSTAMP:20260423T195734
CREATED:20250428T130826Z
LAST-MODIFIED:20250428T130826Z
UID:10006860-1752919200-1752926400@letsbeblount.com
SUMMARY:Roastery Tour
DESCRIPTION:Go Behind the Beans: Roastery Tour at Vienna\nEver wondered how your favorite coffee makes its way from farm to cup? Our monthly Roastery Tours are your behind-the-scenes pass to the heart of our operation.\nJoin us for an immersive experience where you’ll witness the full journey of our relationally sourced coffees\, from sample to roast\, packaging to distribution. You’ll take in the sights\, sounds\, and scents of our Roastery while our expert team shares the craft and care that go into every batch.\nEach ticket includes a 4oz bag of freshly roasted coffee to take home.\nLimited to 10 guests per tour.  \nEvent Location: 212 College St \, Maryville\, TN\, United States\, Tennessee 37804
URL:https://letsbeblount.com/event/roastery-tour-3/
LOCATION:Vienna Coffee Company
CATEGORIES:Community Event,Education & Workshops
ATTACH;FMTTYPE=image/jpeg:https://letsbeblount.com/wp-content/uploads/2025/04/RoasteryTour.jpg
GEO:35.7564851;-83.9690816
END:VEVENT
BEGIN:VEVENT
DTSTART;TZID=America/New_York:20250621T100000
DTEND;TZID=America/New_York:20250621T120000
DTSTAMP:20260423T195734
CREATED:20250428T130811Z
LAST-MODIFIED:20250428T130811Z
UID:10006859-1750500000-1750507200@letsbeblount.com
SUMMARY:Roastery Tour
DESCRIPTION:Go Behind the Beans: Roastery Tour at Vienna\nEver wondered how your favorite coffee makes its way from farm to cup? Our monthly Roastery Tours are your behind-the-scenes pass to the heart of our operation.\nJoin us for an immersive experience where you’ll witness the full journey of our relationally sourced coffees\, from sample to roast\, packaging to distribution. You’ll take in the sights\, sounds\, and scents of our Roastery while our expert team shares the craft and care that go into every batch.\nEach ticket includes a 4oz bag of freshly roasted coffee to take home.\nLimited to 10 guests per tour.  \nEvent Location: 212 College St \, Maryville\, TN\, United States\, Tennessee 37804
URL:https://letsbeblount.com/event/roastery-tour-2/
LOCATION:Vienna Coffee Company
CATEGORIES:Community Event,Education & Workshops
ATTACH;FMTTYPE=image/jpeg:https://letsbeblount.com/wp-content/uploads/2025/04/RoasteryTour.jpg
GEO:35.7564851;-83.9690816
END:VEVENT
BEGIN:VEVENT
DTSTART;TZID=America/New_York:20250621T100000
DTEND;TZID=America/New_York:20250621T120000
DTSTAMP:20260423T195734
CREATED:20250428T130357Z
LAST-MODIFIED:20250428T130357Z
UID:10006843-1750500000-1750507200@letsbeblount.com
SUMMARY:Roastery Tour
DESCRIPTION:Go Behind the Beans: Roastery Tour at Vienna\nEver wondered how your favorite coffee makes its way from farm to cup? Our monthly Roastery Tours are your behind-the-scenes pass to the heart of our operation.\nJoin us for an immersive experience where you’ll witness the full journey of our relationally sourced coffees\, from sample to roast\, packaging to distribution. You’ll take in the sights\, sounds\, and scents of our Roastery while our expert team shares the craft and care that go into every batch.\nEach ticket includes a 4oz bag of freshly roasted coffee to take home.\nLimited to 10 guests per tour.  \nEvent Location: 212 College St \, Maryville\, TN\, United States\, Tennessee 37804
URL:https://letsbeblount.com/event/roastery-tour/
LOCATION:Vienna Coffee Company
CATEGORIES:Community Event,Education & Workshops
ATTACH;FMTTYPE=image/jpeg:https://letsbeblount.com/wp-content/uploads/2025/04/RoasteryTour.jpg
GEO:35.7564851;-83.9690816
END:VEVENT
BEGIN:VEVENT
DTSTART;TZID=America/New_York:20250606T100000
DTEND;TZID=America/New_York:20250606T130000
DTSTAMP:20260423T195734
CREATED:20250428T131129Z
LAST-MODIFIED:20250428T131129Z
UID:10006871-1749204000-1749214800@letsbeblount.com
SUMMARY:The Tasting Table
DESCRIPTION:Join us on the front porch for a relaxed and FREE tasting experience.\nThe Tasting Table is a casual\, drop-in event where you can sip and explore our featured coffees. We’ll walk you through what makes each coffee special\, whether it’s the origin\, processing method\, or roast profile\, and answer any questions you might have along the way.\nIt’s the perfect way to learn more about our coffees\, connect with the Vienna team\, and enjoy a few slow sips in good company.\nNo RSVP required – just stop by\, grab a cup\, and taste with us!  \nEvent Location: 212 College St \, Maryville\, TN\, United States\, Tennessee 37804
URL:https://letsbeblount.com/event/the-tasting-table-8/
LOCATION:Vienna Coffee Company
CATEGORIES:Community Event,Education & Workshops
ATTACH;FMTTYPE=image/jpeg:https://letsbeblount.com/wp-content/uploads/2025/04/TheTastingTable.jpg
GEO:35.7564851;-83.9690816
END:VEVENT
BEGIN:VEVENT
DTSTART;TZID=America/New_York:20250531T100000
DTEND;TZID=America/New_York:20250531T120000
DTSTAMP:20260423T195734
CREATED:20250428T130601Z
LAST-MODIFIED:20250428T130601Z
UID:10006851-1748685600-1748692800@letsbeblount.com
SUMMARY:Curated Cupping
DESCRIPTION:Join Us for a Curated Coffee Cupping Experience\nGet a taste of what makes each coffee truly unique. In this guided session\, a member of the Vienna Coffee Co. team will lead you through a tasting of thoughtfully selected coffees\, featuring different origins\, processes\, and varietals. Together\, we’ll explore how each one tells its own story and creates its own adventure!\nDuring This Session\, You’ll:\nTaste a curated lineup of coffees alongside the Vienna Coffee Co. team\nLearn how factors like origin\, variety\, and processing impact flavor and quality\nDiscover the journey each coffee takes from farm to cup\nPlus\, take home a 12oz bag of freshly roasted coffee to enjoy later!  \nEvent Location: 212 College St \, Maryville\, TN\, United States\, Tennessee 37804
URL:https://letsbeblount.com/event/curated-cupping-2/
LOCATION:Vienna Coffee Company
CATEGORIES:Community Event,Education & Workshops
ATTACH;FMTTYPE=image/jpeg:https://letsbeblount.com/wp-content/uploads/2025/04/CuratedCupping.jpg
GEO:35.7564851;-83.9690816
END:VEVENT
BEGIN:VEVENT
DTSTART;TZID=America/New_York:20250502T100000
DTEND;TZID=America/New_York:20250502T130000
DTSTAMP:20260423T195734
CREATED:20250428T130250Z
LAST-MODIFIED:20250428T130250Z
UID:10006839-1746180000-1746190800@letsbeblount.com
SUMMARY:The Tasting Table
DESCRIPTION:Join us on the front porch for a relaxed and FREE tasting experience.\nThe Tasting Table is a casual\, drop-in event where you can sip and explore our featured coffees. We’ll walk you through what makes each coffee special\, whether it’s the origin\, processing method\, or roast profile\, and answer any questions you might have along the way.\nIt’s the perfect way to learn more about our coffees\, connect with the Vienna team\, and enjoy a few slow sips in good company.\nNo RSVP required – just stop by\, grab a cup\, and taste with us!  \nEvent Location: 212 College St \, Maryville\, TN\, United States\, Tennessee 37804
URL:https://letsbeblount.com/event/the-tasting-table/
LOCATION:Vienna Coffee Company
CATEGORIES:Community Event,Education & Workshops
ATTACH;FMTTYPE=image/jpeg:https://letsbeblount.com/wp-content/uploads/2025/04/TheTastingTable.jpg
GEO:35.7564851;-83.9690816
END:VEVENT
BEGIN:VEVENT
DTSTART;TZID=America/New_York:20240608T110000
DTEND;TZID=America/New_York:20240608T140000
DTSTAMP:20260423T195734
CREATED:20241118T015026Z
LAST-MODIFIED:20241118T015026Z
UID:10004460-1717844400-1717855200@letsbeblount.com
SUMMARY:Townsend: Steeped x Vienna
DESCRIPTION:Join us on June 8th at the IGA in Townsend for our Steeped x Vienna launch! There will be samples of our new Steeped product\, Vienna merch\, and a camping goodie bag!\nAlso\, enter for a chance to win $65 in gift cards!  \nEvent Location: Townsend Village Market IGA
URL:https://letsbeblount.com/event/townsend-steeped-x-vienna/
LOCATION:Vienna Coffee Company
ATTACH;FMTTYPE=image/jpeg:https://letsbeblount.com/wp-content/uploads/2024/11/TownsendSteepedxVienna.jpg
GEO:35.7564851;-83.9690816
END:VEVENT
BEGIN:VEVENT
DTSTART;TZID=America/New_York:20240608T090000
DTEND;TZID=America/New_York:20240608T120000
DTSTAMP:20260423T195734
CREATED:20241118T015518Z
LAST-MODIFIED:20241118T015518Z
UID:10004463-1717837200-1717848000@letsbeblount.com
SUMMARY:Steeped x Vienna
DESCRIPTION:Join us for free samples of our new product\, Steeped! Plus\, win prizes\, enjoy the Farmer’s Market\, and more! \nEvent Location: Vienna Coffee Company
URL:https://letsbeblount.com/event/steeped-x-vienna/
LOCATION:Vienna Coffee Company
CATEGORIES:Community Event,Family & Kids,Outdoor & Nature
ATTACH;FMTTYPE=image/jpeg:https://letsbeblount.com/wp-content/uploads/2024/11/SteepedxVienna.jpg
GEO:35.7564851;-83.9690816
END:VEVENT
END:VCALENDAR