BEGIN:VCALENDAR
VERSION:2.0
PRODID:-//Lets Be Blount - ECPv6.14.2//NONSGML v1.0//EN
CALSCALE:GREGORIAN
METHOD:PUBLISH
X-ORIGINAL-URL:https://letsbeblount.com
X-WR-CALDESC:Events for Lets Be Blount
REFRESH-INTERVAL;VALUE=DURATION:PT1H
X-Robots-Tag:noindex
X-PUBLISHED-TTL:PT1H
BEGIN:VTIMEZONE
TZID:America/New_York
BEGIN:DAYLIGHT
TZOFFSETFROM:-0500
TZOFFSETTO:-0400
TZNAME:EDT
DTSTART:20260308T070000
END:DAYLIGHT
BEGIN:STANDARD
TZOFFSETFROM:-0400
TZOFFSETTO:-0500
TZNAME:EST
DTSTART:20261101T060000
END:STANDARD
END:VTIMEZONE
BEGIN:VEVENT
DTSTART;TZID=America/New_York:20260926T100000
DTEND;TZID=America/New_York:20260926T120000
DTSTAMP:20260423T195659
CREATED:20251231T081100Z
LAST-MODIFIED:20251231T081100Z
UID:10007972-1790416800-1790424000@letsbeblount.com
SUMMARY:Curated Cupping
DESCRIPTION:Join Us for a Curated Coffee Cupping Experience\nGet a taste of what makes each coffee truly unique. In this guided session\, a member of the Vienna Coffee Co. team will lead you through a tasting of thoughtfully selected coffees\, featuring different origins\, processes\, and varietals. Together\, we’ll explore how each one tells its own story and creates its own adventure!\nDuring This Session\, You’ll:\nTaste a curated lineup of coffees alongside the Vienna Coffee Co. team\nLearn how factors like origin\, variety\, and processing impact flavor and quality\nDiscover the journey each coffee takes from farm to cup\nPlus\, take home a 12oz bag of freshly roasted coffee to enjoy later!\nClasses are limited to 6 people. Tickets are $50 per person.  \nEvent Location: 212 College St \, Maryville\, TN\, United States\, Tennessee 37804
URL:https://letsbeblount.com/event/curated-cupping-8/
LOCATION:Vienna Coffee Company
CATEGORIES:Community Event,Education & Workshops
GEO:35.7564851;-83.9690816
END:VEVENT
BEGIN:VEVENT
DTSTART;TZID=America/New_York:20261002T100000
DTEND;TZID=America/New_York:20261002T130000
DTSTAMP:20260423T195659
CREATED:20260106T215410Z
LAST-MODIFIED:20260106T215410Z
UID:10007971-1790935200-1790946000@letsbeblount.com
SUMMARY:The Tasting Table
DESCRIPTION:Join us on the front porch for a relaxed and FREE tasting experience.\nThe Tasting Table is a casual\, drop-in event where you can sip and explore our featured coffees. We’ll walk you through what makes each coffee special\, whether it’s the origin\, processing method\, or roast profile\, and answer any questions you might have along the way.\nIt’s the perfect way to learn more about our coffees\, connect with the Vienna team\, and enjoy a few slow sips in good company.\nNo RSVP required – just stop by\, grab a cup\, and taste with us! \nEvent Location: 212 College St \, Maryville\, TN\, United States\, Tennessee 37804
URL:https://letsbeblount.com/event/the-tasting-table-18/
LOCATION:Vienna Coffee Company
CATEGORIES:Charity & Community,Community Event,Education & Workshops
ATTACH;FMTTYPE=image/jpeg:https://letsbeblount.com/wp-content/uploads/2025/12/TheTastingTable.jpg
GEO:35.7564851;-83.9690816
END:VEVENT
BEGIN:VEVENT
DTSTART;TZID=America/New_York:20261017T100000
DTEND;TZID=America/New_York:20261017T110000
DTSTAMP:20260423T195659
CREATED:20251231T214435Z
LAST-MODIFIED:20251231T214435Z
UID:10007970-1792231200-1792234800@letsbeblount.com
SUMMARY:Roastery Tour
DESCRIPTION:Go Behind the Beans: Roastery Tour at Vienna\nEver wondered how your favorite coffee makes its way from farm to cup? Our monthly Roastery Tours are your behind-the-scenes pass to the heart of our operation.\nJoin us for an immersive experience where you’ll witness the full journey of our relationally sourced coffees\, from sample to roast\, packaging to distribution.\nEach ticket includes a 4oz bag of freshly roasted coffee to take home.\nLimited to 10 guests per tour. Tickets are $5\, just to let us know you’re coming! \nEvent Location: 212 College St \, Maryville\, TN\, United States\, Tennessee 37804
URL:https://letsbeblount.com/event/roastery-tour-15/
LOCATION:Vienna Coffee Company
CATEGORIES:Arts & Culture,Community Event,Education & Workshops
ATTACH;FMTTYPE=image/jpeg:https://letsbeblount.com/wp-content/uploads/2025/12/RoasteryTour.jpg
GEO:35.7564851;-83.9690816
END:VEVENT
BEGIN:VEVENT
DTSTART;TZID=America/New_York:20261106T100000
DTEND;TZID=America/New_York:20261106T130000
DTSTAMP:20260423T195659
CREATED:20260106T215416Z
LAST-MODIFIED:20260106T215416Z
UID:10007976-1793959200-1793970000@letsbeblount.com
SUMMARY:The Tasting Table
DESCRIPTION:Join us on the front porch for a relaxed and FREE tasting experience.\nThe Tasting Table is a casual\, drop-in event where you can sip and explore our featured coffees. We’ll walk you through what makes each coffee special\, whether it’s the origin\, processing method\, or roast profile\, and answer any questions you might have along the way.\nIt’s the perfect way to learn more about our coffees\, connect with the Vienna team\, and enjoy a few slow sips in good company.\nNo RSVP required – just stop by\, grab a cup\, and taste with us! \nEvent Location: 212 College St \, Maryville\, TN\, United States\, Tennessee 37804
URL:https://letsbeblount.com/event/the-tasting-table-20/
LOCATION:Vienna Coffee Company
CATEGORIES:Charity & Community,Community Event,Education & Workshops
ATTACH;FMTTYPE=image/jpeg:https://letsbeblount.com/wp-content/uploads/2025/12/TheTastingTable.jpg
GEO:35.7564851;-83.9690816
END:VEVENT
BEGIN:VEVENT
DTSTART;TZID=America/New_York:20261121T100000
DTEND;TZID=America/New_York:20261121T110000
DTSTAMP:20260423T195659
CREATED:20251231T214434Z
LAST-MODIFIED:20251231T214434Z
UID:10007974-1795255200-1795258800@letsbeblount.com
SUMMARY:Roastery Tour
DESCRIPTION:Go Behind the Beans: Roastery Tour at Vienna\nEver wondered how your favorite coffee makes its way from farm to cup? Our monthly Roastery Tours are your behind-the-scenes pass to the heart of our operation.\nJoin us for an immersive experience where you’ll witness the full journey of our relationally sourced coffees\, from sample to roast\, packaging to distribution.\nEach ticket includes a 4oz bag of freshly roasted coffee to take home.\nLimited to 10 guests per tour. Tickets are $5\, just to let us know you’re coming! \nEvent Location: 212 College St \, Maryville\, TN\, United States\, Tennessee 37804
URL:https://letsbeblount.com/event/roastery-tour-16/
LOCATION:Vienna Coffee Company
CATEGORIES:Community Event,Education & Workshops,Family & Kids
ATTACH;FMTTYPE=image/jpeg:https://letsbeblount.com/wp-content/uploads/2025/12/RoasteryTour.jpg
GEO:35.7564851;-83.9690816
END:VEVENT
BEGIN:VEVENT
DTSTART;TZID=America/New_York:20261204T100000
DTEND;TZID=America/New_York:20261204T130000
DTSTAMP:20260423T195659
CREATED:20260106T215410Z
LAST-MODIFIED:20260106T215410Z
UID:10007973-1796378400-1796389200@letsbeblount.com
SUMMARY:The Tasting Table
DESCRIPTION:Join us on the front porch for a relaxed and FREE tasting experience.\nThe Tasting Table is a casual\, drop-in event where you can sip and explore our featured coffees. We’ll walk you through what makes each coffee special\, whether it’s the origin\, processing method\, or roast profile\, and answer any questions you might have along the way.\nIt’s the perfect way to learn more about our coffees\, connect with the Vienna team\, and enjoy a few slow sips in good company.\nNo RSVP required – just stop by\, grab a cup\, and taste with us! \nEvent Location: 212 College St \, Maryville\, TN\, United States\, Tennessee 37804
URL:https://letsbeblount.com/event/the-tasting-table-19/
LOCATION:Vienna Coffee Company
CATEGORIES:Community Event,Education & Workshops,Family & Kids
ATTACH;FMTTYPE=image/jpeg:https://letsbeblount.com/wp-content/uploads/2025/12/TheTastingTable.jpg
GEO:35.7564851;-83.9690816
END:VEVENT
BEGIN:VEVENT
DTSTART;TZID=America/New_York:20261205T100000
DTEND;TZID=America/New_York:20261205T120000
DTSTAMP:20260423T195659
CREATED:20251231T081204Z
LAST-MODIFIED:20251231T081204Z
UID:10007975-1796464800-1796472000@letsbeblount.com
SUMMARY:Curated Cupping
DESCRIPTION:Join Us for a Curated Coffee Cupping Experience\nGet a taste of what makes each coffee truly unique. In this guided session\, a member of the Vienna Coffee Co. team will lead you through a tasting of thoughtfully selected coffees\, featuring different origins\, processes\, and varietals. Together\, we’ll explore how each one tells its own story and creates its own adventure!\nDuring This Session\, You’ll:\nTaste a curated lineup of coffees alongside the Vienna Coffee Co. team\nLearn how factors like origin\, variety\, and processing impact flavor and quality\nDiscover the journey each coffee takes from farm to cup\nPlus\, take home a 12oz bag of freshly roasted coffee to enjoy later!\nClasses are limited to 6 people. Tickets are $50 per person.  \nEvent Location: 212 College St \, Maryville\, TN\, United States\, Tennessee 37804
URL:https://letsbeblount.com/event/curated-cupping-9/
LOCATION:Vienna Coffee Company
CATEGORIES:Community Event,Education & Workshops,Literature & Books
GEO:35.7564851;-83.9690816
END:VEVENT
BEGIN:VEVENT
DTSTART;TZID=America/New_York:20261219T100000
DTEND;TZID=America/New_York:20261219T110000
DTSTAMP:20260423T195659
CREATED:20260106T220525Z
LAST-MODIFIED:20260106T220525Z
UID:10007977-1797674400-1797678000@letsbeblount.com
SUMMARY:Roastery Tour
DESCRIPTION:Go Behind the Beans: Roastery Tour at Vienna\nEver wondered how your favorite coffee makes its way from farm to cup? Our monthly Roastery Tours are your behind-the-scenes pass to the heart of our operation.\nJoin us for an immersive experience where you’ll witness the full journey of our relationally sourced coffees\, from sample to roast\, packaging to distribution.\nEach ticket includes a 4oz bag of freshly roasted coffee to take home.\nLimited to 10 guests per tour. Tickets are $5\, just to let us know you’re coming! \nEvent Location: 212 College St \, Maryville\, TN\, United States\, Tennessee 37804
URL:https://letsbeblount.com/event/roastery-tour-17/
LOCATION:Vienna Coffee Company
CATEGORIES:Community Event,Education & Workshops,Family & Kids
ATTACH;FMTTYPE=image/jpeg:https://letsbeblount.com/wp-content/uploads/2025/12/RoasteryTour.jpg
GEO:35.7564851;-83.9690816
END:VEVENT
END:VCALENDAR